BEGIN:VCALENDAR
PRODID:-//PUBBLE//agenda//NL
VERSION:2.0
METHOD:PUBLISH
BEGIN:VEVENT
DTSTART:20260516T173000Z
DTEND:20260516T200000Z
DTSTAMP:20260423T165238Z
UID:84242e75-3d13-4684-bbdd-cb1711b4c2b1
CREATED:20260423T165238Z
NAME:Uitwisselingsconcert De Goede Hoop Eersel en Eintracht Lauterbach hoibergeijk.nl
X-WR-CALNAME:Uitwisselingsconcert De Goede Hoop Eersel en Eintracht Lauterbach
X-ALT-DESC;FMTTYPE=text/html:<a href='/agenda/2026/5/16/uitwisselingsconcert-de-goede-hoop-eersel-en-eintracht-lauterbach-20175'>/agenda/2026/5/16/uitwisselingsconcert-de-goede-hoop-eersel-en-eintracht-lauterbach-20175</a> || <p>In het hemelvaartweekend brengt musikverein “Eintracht” uit Lauterbach (Zwarte Woud) een bezoek aan muziekvereniging De Goede Hoop uit Eersel. Al sinds 2005 is er een band met deze Duitse muziekvereniging door verschillende muzikale uitwisselingen. Deze keer is het de beurt aan onze Duitse muziekvrienden om naar Eersel toe te komen. Muziekvereniging “Eintracht” uit Lauterbach (Baden-Württemberg) bestaat sinds 1900 (vorig jaar vierden zij hun 125 jarig jubileum!) en de muziekvereniging heeft onder andere een hoofdorkest van 58 muzikanten. <br><br><b>Uitwisselingsconcert zaterdag 16 mei</b></p><p>Een van de activiteiten tijdens het hemelvaartweekend is een gezamenlijk concert van beide muziekverenigingen. Kom luisteren en genieten van de muzikale verbinding tussen de verenigingen! Op zaterdagavond 16 mei 2026 om 19.30u vindt dit concert plaats in de Muzenval in Eersel. De toegang is gratis.</p>
DESCRIPTION:<a href='/agenda/2026/5/16/uitwisselingsconcert-de-goede-hoop-eersel-en-eintracht-lauterbach-20175'>/agenda/2026/5/16/uitwisselingsconcert-de-goede-hoop-eersel-en-eintracht-lauterbach-20175</a> || <p>In het hemelvaartweekend brengt musikverein “Eintracht” uit Lauterbach (Zwarte Woud) een bezoek aan muziekvereniging De Goede Hoop uit Eersel. Al sinds 2005 is er een band met deze Duitse muziekvereniging door verschillende muzikale uitwisselingen. Deze keer is het de beurt aan onze Duitse muziekvrienden om naar Eersel toe te komen. Muziekvereniging “Eintracht” uit Lauterbach (Baden-Württemberg) bestaat sinds 1900 (vorig jaar vierden zij hun 125 jarig jubileum!) en de muziekvereniging heeft onder andere een hoofdorkest van 58 muzikanten. <br><br><b>Uitwisselingsconcert zaterdag 16 mei</b></p><p>Een van de activiteiten tijdens het hemelvaartweekend is een gezamenlijk concert van beide muziekverenigingen. Kom luisteren en genieten van de muzikale verbinding tussen de verenigingen! Op zaterdagavond 16 mei 2026 om 19.30u vindt dit concert plaats in de Muzenval in Eersel. De toegang is gratis.</p>
LAST-MODIFIED:20260423T165238Z
LOCATION: De Muzenval | Dijk 7 Eersel
SEQUENCE:0
STATUS:CONFIRMED
SUMMARY:Uitwisselingsconcert De Goede Hoop Eersel en Eintracht Lauterbach
TRANSP:OPAQUE
END:VEVENT
END:VCALENDAR
