BEGIN:VCALENDAR
PRODID:-//PUBBLE//agenda//NL
VERSION:2.0
METHOD:PUBLISH
BEGIN:VEVENT
DTSTART:20260417T093006Z
DTEND:20260417T103006Z
DTSTAMP:20260423T165719Z
UID:c2c0dce3-40f5-42d6-98c6-a5c2591384c2
CREATED:20260423T165719Z
NAME:JongBelegen in de Kattendans hoibergeijk.nl
X-WR-CALNAME:JongBelegen in de Kattendans
X-ALT-DESC;FMTTYPE=text/html:<a href='/agenda/2026/5/17/jongbelegen-in-de-kattendans-20152'>/agenda/2026/5/17/jongbelegen-in-de-kattendans-20152</a> || <p>Heb jij op 15, 16 of 17 mei nog niks te doen? Kom dan gezellig naar theater De Kattendans!<br>Na het succes van vorig jaar was het duidelijk; JongBelegen smaakt naar meer! Daarom heeft het Bergeijkse gezelschap, met jong en wat meer belegen talent, opnieuw een eigen voorstelling geschreven. Het belooft een verrassende avond te worden met dans, zang, toneelspel én live muziek.</p><p>We vinden het leuk als jij er ook bij bent!<br>Bestel je kaartje bij theater De Kattendans, via <a href="http://www.kattendans.nl" rel="noopener noreferrer" target="_blank">www.kattendans.nl</a>.</p>
DESCRIPTION:<a href='/agenda/2026/5/17/jongbelegen-in-de-kattendans-20152'>/agenda/2026/5/17/jongbelegen-in-de-kattendans-20152</a> || <p>Heb jij op 15, 16 of 17 mei nog niks te doen? Kom dan gezellig naar theater De Kattendans!<br>Na het succes van vorig jaar was het duidelijk; JongBelegen smaakt naar meer! Daarom heeft het Bergeijkse gezelschap, met jong en wat meer belegen talent, opnieuw een eigen voorstelling geschreven. Het belooft een verrassende avond te worden met dans, zang, toneelspel én live muziek.</p><p>We vinden het leuk als jij er ook bij bent!<br>Bestel je kaartje bij theater De Kattendans, via <a href="http://www.kattendans.nl" rel="noopener noreferrer" target="_blank">www.kattendans.nl</a>.</p>
LAST-MODIFIED:20260423T165719Z
LOCATION: Theater De Kattendans | Eerselsedijk 4 Bergeijk
SEQUENCE:0
STATUS:CONFIRMED
SUMMARY:JongBelegen in de Kattendans
TRANSP:OPAQUE
END:VEVENT
END:VCALENDAR
