BEGIN:VCALENDAR
PRODID:-//PUBBLE//agenda//NL
VERSION:2.0
METHOD:PUBLISH
BEGIN:VEVENT
DTSTART:20260417T092953Z
DTEND:20260417T102953Z
DTSTAMP:20260423T164933Z
UID:797d86cd-4985-4e9d-a260-b623f80c0d05
CREATED:20260423T164933Z
NAME:JongBelegen in de Kattendans hoibergeijk.nl
X-WR-CALNAME:JongBelegen in de Kattendans
X-ALT-DESC;FMTTYPE=text/html:<a href='/agenda/2026/5/16/jongbelegen-in-de-kattendans-20151'>/agenda/2026/5/16/jongbelegen-in-de-kattendans-20151</a> || <p>Heb jij op 15, 16 of 17 mei nog niks te doen? Kom dan gezellig naar theater De Kattendans!<br>Na het succes van vorig jaar was het duidelijk; JongBelegen smaakt naar meer! Daarom heeft het Bergeijkse gezelschap, met jong en wat meer belegen talent, opnieuw een eigen voorstelling geschreven. Het belooft een verrassende avond te worden met dans, zang, toneelspel én live muziek.</p><p>We vinden het leuk als jij er ook bij bent!<br>Bestel je kaartje bij theater De Kattendans, via <a href="http://www.kattendans.nl" rel="noopener noreferrer" target="_blank">www.kattendans.nl</a>.</p>
DESCRIPTION:<a href='/agenda/2026/5/16/jongbelegen-in-de-kattendans-20151'>/agenda/2026/5/16/jongbelegen-in-de-kattendans-20151</a> || <p>Heb jij op 15, 16 of 17 mei nog niks te doen? Kom dan gezellig naar theater De Kattendans!<br>Na het succes van vorig jaar was het duidelijk; JongBelegen smaakt naar meer! Daarom heeft het Bergeijkse gezelschap, met jong en wat meer belegen talent, opnieuw een eigen voorstelling geschreven. Het belooft een verrassende avond te worden met dans, zang, toneelspel én live muziek.</p><p>We vinden het leuk als jij er ook bij bent!<br>Bestel je kaartje bij theater De Kattendans, via <a href="http://www.kattendans.nl" rel="noopener noreferrer" target="_blank">www.kattendans.nl</a>.</p>
LAST-MODIFIED:20260423T164933Z
LOCATION: Theater De Kattendans | Eerselsedijk 4 Bergeijk
SEQUENCE:0
STATUS:CONFIRMED
SUMMARY:JongBelegen in de Kattendans
TRANSP:OPAQUE
END:VEVENT
END:VCALENDAR
