BEGIN:VCALENDAR
PRODID:-//PUBBLE//agenda//NL
VERSION:2.0
METHOD:PUBLISH
BEGIN:VEVENT
DTSTART:20260502T173000Z
DTEND:20260502T215900Z
DTSTAMP:20260423T165750Z
UID:e6758d2b-1981-47e4-b27b-61a78b93e3ed
CREATED:20260423T165750Z
NAME:Dansen in de Buitengaander hoibergeijk.nl
X-WR-CALNAME:Dansen in de Buitengaander
X-ALT-DESC;FMTTYPE=text/html:<a href='/agenda/2026/5/2/dansen-in-de-buitengaander-20078'>/agenda/2026/5/2/dansen-in-de-buitengaander-20078</a> || <p>Iedere maand dansen we in De Buitengaander. Alle dansen zijn mogelijk!&nbsp;</p><p>Vraag het aan de DJ en je nummer wordt gedraaid.</p><p>De zaal is open vanaf 19 uur.</p>
DESCRIPTION:<a href='/agenda/2026/5/2/dansen-in-de-buitengaander-20078'>/agenda/2026/5/2/dansen-in-de-buitengaander-20078</a> || <p>Iedere maand dansen we in De Buitengaander. Alle dansen zijn mogelijk!&nbsp;</p><p>Vraag het aan de DJ en je nummer wordt gedraaid.</p><p>De zaal is open vanaf 19 uur.</p>
LAST-MODIFIED:20260423T165750Z
LOCATION: De Buitengaander | Dorpstraat 9 Westerhoven
SEQUENCE:0
STATUS:CONFIRMED
SUMMARY:Dansen in de Buitengaander
TRANSP:OPAQUE
END:VEVENT
END:VCALENDAR
